BEGIN:VCALENDAR
VERSION:2.0
PRODID:-//TermineManager//DE
CALSCALE:GREGORIAN
METHOD:PUBLISH
BEGIN:VEVENT
UID:event-7827@lars-schieske.de
DTSTAMP:20260419T145736Z
DTSTART:20251013T160000Z
DTEND:20251013T180000Z
SUMMARY:Bürgerdialog in Guben mit Lars Schieske und Daniel Münschke am 13.10.2025 um 18:00
LOCATION:Deutsches Haus Burg\, Hauptstraße 2\, 03096 Burg (Spreewald)
DESCRIPTION:Wir laden Sie herzlich zu einem offenen Bürgerdialog in die Alten Färbereien (Guben) ein. Gemeinsam mit meinem Landtagskollegen\, dem Vizepräsidenten des Brandenburger Landtages\, Daniel Münschke\, möchte ich mit Ihnen ins Gespräch kommen.\\n\\n\\n\\nWir wollen Ihre Fragen beantworten\, Ihre Anliegen aufnehmen und uns mit Ihnen zu aktuellen Themen austauschen. Nutzen Sie die Gelegenheit\, Ihre Sichtweisen und Ideen direkt einzubringen – wir freuen uns auf den Dialog mit Ihnen!\\n\\nMehr Infos: https://lars-schieske.de/newsblog/termine/buergerdialog-in-burg-mit-lars-schieske-und-daniel-muenschek-am-10-11-2025/
END:VEVENT
END:VCALENDAR
