BEGIN:VCALENDAR
VERSION:2.0
PRODID:-//TermineManager//DE
CALSCALE:GREGORIAN
METHOD:PUBLISH
BEGIN:VEVENT
UID:event-8142@lars-schieske.de
DTSTAMP:20260419T164055Z
DTSTART:20251114T153000Z
DTEND:20251114T173000Z
SUMMARY:Lampionumzug am 14.11.2025 um 16:30
LOCATION:Bürgerbüro – Dresdener Straße 89\, 03050 Cottbus
DESCRIPTION:Wir laden herzlich zum Sankt-Martins-Treffen am 14.11.2025 ein!Freut Euch auf eine gemütliche Runde mit musikalischer Untermalung und traditionellen Martinshörnchen.\\n\\n\\n\\n📍&nbsp\;Bürgerbüro – Dresdener Straße 89\, 03050 Cottbus🕟&nbsp\;Eintreffen: 16:30 Uhr⏰&nbsp\;Start: 17:00 Uhr\\n\\n\\n\\nBitte bringt Eure Lampions selbst mit – so können wir gemeinsam den Sankt-Martins-Brauch in stimmungsvollem Licht feiern.\\n\\n\\n\\nEin schöner Nachmittag\, um ins Gespräch zu kommen\, Gedanken auszutauschen und die Sankt-Martins-Tradition gemeinsam zu erleben.\\n\\n\\n\\nWir freuen uns auf jeden\, der vorbeikommt!&nbsp\;\\n\\nMehr Infos: https://lars-schieske.de/newsblog/termine/lampionumzug/
END:VEVENT
END:VCALENDAR
