BEGIN:VCALENDAR
VERSION:2.0
PRODID:-//TermineManager//DE
CALSCALE:GREGORIAN
METHOD:PUBLISH
BEGIN:VEVENT
UID:event-8401@lars-schieske.de
DTSTAMP:20260419T151740Z
DTSTART:20251212T160000Z
DTEND:20251212T180000Z
SUMMARY:Einladung zum Weihnachtsliederabend im Bürgerbüro am 12.12.2025 um 17:00
LOCATION:Bürgerbüro Lars Schieske\\nDresdener Straße 89\\n(Breithaus)\\n03050 Cottbus
DESCRIPTION:Die Adventszeit ist jene besondere Phase im Jahr\, in der Lichter heller scheinen\, Erinnerungen wärmer werden und der Alltag für einen Moment leiser wird. Wie in einem romanischen Winterbild legt sich eine ruhige Stimmung über die Tage – es duftet nach Gebäck\, Kerzenschein tanzt an den Fenstern\, und Geschichten von früher rücken wieder in den Mittelpunkt. Diese Zeit lädt euch dazu ein\, innezuhalten\, Gemeinschaft zu erleben und die kleinen Wunder der Vorweihnacht zu teilen.\\n\\n\\n\\nDarum möchte ich euch herzlich einladen zu einem Weihnachtsliederabend in meinem Bürgerbüro.In gemütlicher und weihnachtlicher Atmosphäre wollen wir gemeinsam traditionelle Weihnachtslieder singen\, Gedichte vortragen und Geschichten erzählen. Dazu gibt es Glühwein\, Punsch und weihnachtliches Gebäck.\\n\\n\\n\\nWann: Freitag\, 12.12.2025\, ab 17:00 UhrWo: Bürgerbüro Lars SchieskeDresdener Straße 89\, 03050 Cottbus\\n\\n\\n\\nIch freue mich auf einen stimmungsvollen Abend voller Musik\, Austausch und Vorfreude auf das Weihnachtsfest.\\n\\n\\n\\nVorweihnachtliche GrüßeLars Schieske\\n\\nMehr Infos: https://lars-schieske.de/newsblog/termine/einladung-zum-weihnachtsliederabend-im-buergerbuero/
END:VEVENT
END:VCALENDAR
