BEGIN:VCALENDAR
VERSION:2.0
PRODID:-//TermineManager//DE
CALSCALE:GREGORIAN
METHOD:PUBLISH
BEGIN:VEVENT
UID:event-8799@lars-schieske.de
DTSTAMP:20260419T134745Z
DTSTART:20260108T170000Z
DTEND:20260108T190000Z
SUMMARY:Bürgerdialog in Drebkau am 08.01.2026 um 18:00
LOCATION:Bürgerhaus Kausche\\n03116 Drebkau
DESCRIPTION:Wir laden Sie herzlich zu einem offenen Bürgerdialog in das Bürgerhaus Kausche nach Drebkau ein. Gemeinsam mit meinem Kollegen aus dem Brandenburger Landtag\, Fabian Jank\, sowie unserer Landratskandidatin zur Landratswahl 2026\, Christine Beyer\, möchte ich mit Ihnen ins Gespräch kommen. \\n\\n\\n\\nWir wollen Ihre Fragen beantworten\, Ihre Anliegen aufnehmen und uns mit Ihnen zu aktuellen Themen austauschen. Nutzen Sie die Gelegenheit\, Ihre Sichtweisen und Ideen direkt einzubringen – wir freuen uns auf den Dialog mit Ihnen!\\n\\nMehr Infos: https://lars-schieske.de/newsblog/termine/buergerdialog-in-drebkau-am-08-01-2026-um-18-uhr/
END:VEVENT
END:VCALENDAR
